BEGIN:VCALENDAR
VERSION:2.0
PRODID:icalendar-ruby
CALSCALE:GREGORIAN
METHOD:PUBLISH
BEGIN:VEVENT
DTSTAMP:20260420T113643Z
UID:70-346262@sgiumc.org
DTSTART:20260325T220000Z
DTEND:20260325T230000Z
CLASS:PUBLIC
CREATED:20260225T113917
DESCRIPTION:Wednesday\, March 11\, 18\, and 25\, 6 p.m. –  “Making Roo
 m” with Rev. White\nChristine Pohl\, of Asbury Theological Seminary\, ex
 plores Christian hospitality in her book "Making Room\," emphasizing its i
 mportance in faithful discipleship and God’s welcome to strangers and th
 e vulnerable. Rev. White will lead a Bible study based on the scriptures f
 rom Pohl’s book. No purchase is necessary\; just bring your Bible. Every
 one is welcome.
LAST-MODIFIED:20260225T113917
LOCATION:201 E Gulf Beach Dr.\, St. George Island\, FL 32328
SUMMARY:Lenten Bible Study
URL;VALUE=URI:https://www.sgiumc.org/events/lenten-bible-study/2026-03-25
ATTACH;FILENAME=Making-Room.jpg;FMTTYPE=image/jpeg:https://dq5pwpg1q8ru0.cl
 oudfront.net/2026/02/11/18/08/57/73047e31-5919-4495-9248-1a2b91d7e402/Maki
 ng-Room.jpg
END:VEVENT
END:VCALENDAR
